BEGIN:VCALENDAR
PRODID:-//www.prestosports.com//PrestoSports//EN
VERSION:2.0
CALSCALE:GREGORIAN
BEGIN:VEVENT
DTSTAMP:20260421T071943Z
DTSTART;VALUE=DATE:20250913
SUMMARY:(Men's Wrestling) Bakersfield Duals vs. Bakersfield Duals
TRANSP:TRANSPARENT
CATEGORIES:Men's Wrestling
LOCATION:Bakersfield College
DESCRIPTION:(Men's Wrestling) Bakersfield Duals vs. Bakersfield Duals\, Final
UID:8dchos0h9kstrli8@prestosports.com
END:VEVENT
BEGIN:VEVENT
DTSTAMP:20260421T071943Z
DTSTART;VALUE=DATE:20250919
SUMMARY:(Men's Wrestling) SCC Dave Pacheco Invitational vs. SCC Dave Pacheco Invitational
TRANSP:TRANSPARENT
CATEGORIES:Men's Wrestling
LOCATION:Sacramento City College
DESCRIPTION:(Men's Wrestling) SCC Dave Pacheco Invitational vs. SCC Dave Pacheco Invitational\, Final
UID:tbvcc8ok7a5loc7g@prestosports.com
END:VEVENT
BEGIN:VEVENT
DTSTAMP:20260421T071943Z
DTSTART:20250920T160000Z
DURATION:PT3H
SUMMARY:(Men's Wrestling) Mt. SAC Duals vs. Mt. SAC Duals
TRANSP:TRANSPARENT
CATEGORIES:Men's Wrestling
LOCATION:Mt. San Antonio College
DESCRIPTION:(Men's Wrestling) Mt. SAC Duals vs. Mt. SAC Duals\, Final
UID:yd3qu8two1x9wgzt@prestosports.com
END:VEVENT
BEGIN:VEVENT
DTSTAMP:20260421T071943Z
DTSTART;VALUE=DATE:20250927
SUMMARY:(Men's Wrestling) Golden Eagle Tournament vs. Golden Eagle Tournament
TRANSP:TRANSPARENT
CATEGORIES:Men's Wrestling
LOCATION:Lemoore College
DESCRIPTION:(Men's Wrestling) Golden Eagle Tournament vs. Golden Eagle Tournament\, Final
UID:jxpzvc1yt13s79uz@prestosports.com
END:VEVENT
BEGIN:VEVENT
DTSTAMP:20260421T071943Z
DTSTART;VALUE=DATE:20251004
SUMMARY:(Men's Wrestling) Santa Ana Invitational vs. Santa Ana Invitational
TRANSP:TRANSPARENT
CATEGORIES:Men's Wrestling
LOCATION:Santa Ana College
DESCRIPTION:(Men's Wrestling) Santa Ana Invitational vs. Santa Ana Invitational\, Final
UID:qfax6lsupocwt6f0@prestosports.com
END:VEVENT
BEGIN:VEVENT
DTSTAMP:20260421T071943Z
DTSTART:20251011T160000Z
DURATION:PT3H
SUMMARY:(Men's Wrestling) Modesto Tournament vs. Modesto Tournament
TRANSP:TRANSPARENT
CATEGORIES:Men's Wrestling
LOCATION:Modesto College
DESCRIPTION:(Men's Wrestling) Modesto Tournament vs. Modesto Tournament\, Final
UID:ombhtyajzei2qa4m@prestosports.com
END:VEVENT
BEGIN:VEVENT
DTSTAMP:20260421T071943Z
DTSTART:20251018T170000Z
DURATION:PT3H
SUMMARY:(Men's Wrestling) Southern California Regional Duals vs. Southern California Regional Duals
TRANSP:TRANSPARENT
CATEGORIES:Men's Wrestling
LOCATION:Mt. San Antonio College
DESCRIPTION:(Men's Wrestling) Southern California Regional Duals vs. Southern California Regional Duals\, Final
UID:w86abbmbpcvw7ia0@prestosports.com
END:VEVENT
BEGIN:VEVENT
DTSTAMP:20260421T071943Z
DTSTART:20251018T170000Z
DURATION:PT3H
SUMMARY:(Men's Wrestling) Northern California Regional Duals vs. Northern California Regional Duals
TRANSP:TRANSPARENT
CATEGORIES:Men's Wrestling
LOCATION:Sierra College
DESCRIPTION:(Men's Wrestling) Northern California Regional Duals vs. Northern California Regional Duals\, Final
UID:whm3b3iii2pvniod@prestosports.com
END:VEVENT
BEGIN:VEVENT
DTSTAMP:20260421T071943Z
DTSTART;VALUE=DATE:20251025
SUMMARY:(Men's Wrestling) 22nd Meathead Mover Invitational vs. 22nd Meathead Mover Invitational
TRANSP:TRANSPARENT
CATEGORIES:Men's Wrestling
LOCATION:Cuesta College
DESCRIPTION:(Men's Wrestling) 22nd Meathead Mover Invitational vs. 22nd Meathead Mover Invitational\, Final
UID:4e2oiob35ttvukw5@prestosports.com
END:VEVENT
BEGIN:VEVENT
DTSTAMP:20260421T071943Z
DTSTART;VALUE=DATE:20251025
SUMMARY:(Men's Wrestling) Halloween Open vs. Halloween Open
TRANSP:TRANSPARENT
CATEGORIES:Men's Wrestling
LOCATION:Cerritos College
DESCRIPTION:(Men's Wrestling) Halloween Open vs. Halloween Open\, 9:00 a.m.
UID:mws9f5ofamu6olru@prestosports.com
END:VEVENT
BEGIN:VEVENT
DTSTAMP:20260421T071943Z
DTSTART;VALUE=DATE:20251101
SUMMARY:(Men's Wrestling) Menlo Open vs. Menlo Open
TRANSP:TRANSPARENT
CATEGORIES:Men's Wrestling
LOCATION:Menlo College
DESCRIPTION:(Men's Wrestling) Menlo Open vs. Menlo Open\, 9:00 a.m.
UID:d7hehdotgtvgqk20@prestosports.com
END:VEVENT
BEGIN:VEVENT
DTSTAMP:20260421T071943Z
DTSTART;VALUE=DATE:20251108
SUMMARY:(Men's Wrestling) Bill Musick Individual Tournament vs. Bill Musick Individual Tournament
TRANSP:TRANSPARENT
CATEGORIES:Men's Wrestling
LOCATION:Fresno City College
DESCRIPTION:(Men's Wrestling) Bill Musick Individual Tournament vs. Bill Musick Individual Tournament
UID:d7m0i8wg79ggadas@prestosports.com
END:VEVENT
BEGIN:VEVENT
DTSTAMP:20260421T071943Z
DTSTART;VALUE=DATE:20251121
SUMMARY:(Men's Wrestling) Chabot PST Invite vs. Chabot PST Invite
TRANSP:TRANSPARENT
CATEGORIES:Men's Wrestling
LOCATION:Chabot College
DESCRIPTION:(Men's Wrestling) Chabot PST Invite vs. Chabot PST Invite\, 10:00 a.m.
UID:hsw0q656xx7bxyoo@prestosports.com
END:VEVENT
BEGIN:VEVENT
DTSTAMP:20260421T071943Z
DTSTART;VALUE=DATE:20251122
SUMMARY:(Men's Wrestling) ELAC Brawl vs. ELAC Brawl
TRANSP:TRANSPARENT
CATEGORIES:Men's Wrestling
LOCATION:East Los Angeles College
DESCRIPTION:(Men's Wrestling) ELAC Brawl vs. ELAC Brawl\, 9:00 a.m.
UID:78i9pyj2s0m0x4q9@prestosports.com
END:VEVENT
BEGIN:VEVENT
DTSTAMP:20260421T071943Z
DTSTART;VALUE=DATE:20251123
SUMMARY:(Men's Wrestling) 3C2A State Dual Championship vs. 3C2A State Dual Championship
TRANSP:TRANSPARENT
CATEGORIES:Men's Wrestling
LOCATION:TBA
DESCRIPTION:(Men's Wrestling) 3C2A State Dual Championship vs. 3C2A State Dual Championship
UID:94u7gphtsw2tlri8@prestosports.com
END:VEVENT
BEGIN:VEVENT
DTSTAMP:20260421T071943Z
DTSTART;VALUE=DATE:20251206
SUMMARY:(Men's Wrestling) 3C2A Southern California Regional Championships vs. 3C2A Southern California Regional Championships
TRANSP:TRANSPARENT
CATEGORIES:Men's Wrestling
LOCATION:Lemoore College
DESCRIPTION:(Men's Wrestling) 3C2A Southern California Regional Championships vs. 3C2A Southern California Regional Championships\, 9:00 a.m.
UID:z86jmo17aqls82we@prestosports.com
END:VEVENT
BEGIN:VEVENT
DTSTAMP:20260421T071943Z
DTSTART;VALUE=DATE:20251206
SUMMARY:(Men's Wrestling) 3C2A Northern California Regional Championships vs. 3C2A Northern California Regional Championships
TRANSP:TRANSPARENT
CATEGORIES:Men's Wrestling
LOCATION:Modesto College
DESCRIPTION:(Men's Wrestling) 3C2A Northern California Regional Championships vs. 3C2A Northern California Regional Championships\, 9:00 a.m.
UID:rntutegi14fyu0a6@prestosports.com
END:VEVENT
BEGIN:VEVENT
DTSTAMP:20260421T071943Z
DTSTART;VALUE=DATE:20251212
SUMMARY:(Men's Wrestling) 3C2A State Championships vs. 3C2A State Championships
TRANSP:TRANSPARENT
CATEGORIES:Men's Wrestling
LOCATION:Sierra College
DESCRIPTION:(Men's Wrestling) 3C2A State Championships vs. 3C2A State Championships\, 9:00 a.m.
UID:8mg2xqla1w9s4kw0@prestosports.com
END:VEVENT
BEGIN:VEVENT
DTSTAMP:20260421T071943Z
DTSTART;VALUE=DATE:20251213
SUMMARY:(Men's Wrestling) 3C2A State Championships vs. 3C2A State Championships
TRANSP:TRANSPARENT
CATEGORIES:Men's Wrestling
LOCATION:Sierra College
DESCRIPTION:(Men's Wrestling) 3C2A State Championships vs. 3C2A State Championships\, 9:00 a.m.
UID:lgrbhpvqv8t84fs9@prestosports.com
END:VEVENT
END:VCALENDAR
