BEGIN:VCALENDAR
PRODID:-//www.prestosports.com//PrestoSports//EN
VERSION:2.0
CALSCALE:GREGORIAN
BEGIN:VEVENT
DTSTAMP:20260420T230615Z
DTSTART:20170202T020000Z
DURATION:PT3H
SUMMARY:(Men's Volleyball) Santiago Canyon at Santa Barbara
TRANSP:TRANSPARENT
CATEGORIES:Men's Volleyball
DESCRIPTION:Men's Volleyball: (Men's Volleyball) Santiago Canyon at Santa Barbara\, 25-15\, 25-16\, 25-20\, Final\, 0-3
UID:5dmsfopmqso0ceok@prestosports.com
END:VEVENT
BEGIN:VEVENT
DTSTAMP:20260420T230615Z
DTSTART:20170208T230000Z
DURATION:PT3H
SUMMARY:(Men's Volleyball) LA Trade Tech vs. Santiago Canyon
TRANSP:TRANSPARENT
CATEGORIES:Men's Volleyball
DESCRIPTION:Men's Volleyball: (Men's Volleyball) LA Trade Tech vs. Santiago Canyon\, Final\, 3-0
UID:yu33q43ns909g42k@prestosports.com
END:VEVENT
BEGIN:VEVENT
DTSTAMP:20260420T230615Z
DTSTART:20170223T020000Z
DURATION:PT3H
SUMMARY:(Men's Volleyball) Palomar vs. Santiago Canyon
TRANSP:TRANSPARENT
CATEGORIES:Men's Volleyball
DESCRIPTION:Men's Volleyball: (Men's Volleyball) Palomar vs. Santiago Canyon\, Final\, 1-3
UID:74y6e0erww2i03yz@prestosports.com
END:VEVENT
BEGIN:VEVENT
DTSTAMP:20260420T230615Z
DTSTART:20170225T020000Z
DURATION:PT3H
SUMMARY:(Men's Volleyball) Santiago Canyon at Grossmont
TRANSP:TRANSPARENT
CATEGORIES:Men's Volleyball
DESCRIPTION:Men's Volleyball: (Men's Volleyball) Santiago Canyon at Grossmont\, Final\, 1-3
UID:9yt7y1utxjemprti@prestosports.com
END:VEVENT
BEGIN:VEVENT
DTSTAMP:20260420T230615Z
DTSTART:20170227T230000Z
DURATION:PT3H
SUMMARY:(Men's Volleyball) Santiago Canyon at San Diego Mesa
TRANSP:TRANSPARENT
CATEGORIES:Men's Volleyball
DESCRIPTION:Men's Volleyball: (Men's Volleyball) Santiago Canyon at San Diego Mesa\, Final\, 0-3
UID:0l3epvb5wsvkqui7@prestosports.com
END:VEVENT
BEGIN:VEVENT
DTSTAMP:20260420T230615Z
DTSTART:20170304T020000Z
DURATION:PT3H
SUMMARY:(Men's Volleyball) Santiago Canyon at San Diego Miramar
TRANSP:TRANSPARENT
CATEGORIES:Men's Volleyball
DESCRIPTION:Men's Volleyball: (Men's Volleyball) Santiago Canyon at San Diego Miramar\, 20-25\, 25-11\, 25-17\, 25-15\, Final\, 1-3
UID:yhbwryo9dguoij2r@prestosports.com
END:VEVENT
BEGIN:VEVENT
DTSTAMP:20260420T230615Z
DTSTART:20170309T020000Z
DURATION:PT3H
SUMMARY:(Men's Volleyball) Santiago Canyon at Antelope Valley
TRANSP:TRANSPARENT
CATEGORIES:Men's Volleyball
DESCRIPTION:Men's Volleyball: (Men's Volleyball) Santiago Canyon at Antelope Valley\, Final\, 3-1
UID:6e0omrnfrod582j7@prestosports.com
END:VEVENT
BEGIN:VEVENT
DTSTAMP:20260420T230615Z
DTSTART:20170311T020000Z
DURATION:PT3H
SUMMARY:(Men's Volleyball) Santiago Canyon at Santa Monica
TRANSP:TRANSPARENT
CATEGORIES:Men's Volleyball
DESCRIPTION:Men's Volleyball: (Men's Volleyball) Santiago Canyon at Santa Monica\, Final\, 0-3
UID:6om8k6u9hl5czsui@prestosports.com
END:VEVENT
BEGIN:VEVENT
DTSTAMP:20260420T230615Z
DTSTART:20170316T010000Z
DURATION:PT3H
SUMMARY:(Men's Volleyball) Fullerton vs. Santiago Canyon
TRANSP:TRANSPARENT
CATEGORIES:Men's Volleyball
DESCRIPTION:Men's Volleyball: (Men's Volleyball) Fullerton vs. Santiago Canyon\, 25-14\, 25-9\, 25-14\, Final\, 0-3
UID:gv4b8z2t0cgayi9a@prestosports.com
END:VEVENT
BEGIN:VEVENT
DTSTAMP:20260420T230615Z
DTSTART:20170318T010000Z
DURATION:PT3H
SUMMARY:(Men's Volleyball) Santiago Canyon at Irvine Valley
TRANSP:TRANSPARENT
CATEGORIES:Men's Volleyball
DESCRIPTION:Men's Volleyball: (Men's Volleyball) Santiago Canyon at Irvine Valley\, 25-17\, 25-16\, 25-15\, Final\, 0-3
UID:5qfhbicw1fram1vq@prestosports.com
END:VEVENT
BEGIN:VEVENT
DTSTAMP:20260420T230615Z
DTSTART:20170323T010000Z
DURATION:PT3H
SUMMARY:(Men's Volleyball) El Camino vs. Santiago Canyon College
TRANSP:TRANSPARENT
CATEGORIES:Men's Volleyball
DESCRIPTION:Men's Volleyball: (Men's Volleyball) El Camino vs. Santiago Canyon College\, Final\, 0-3
UID:43fo5pyciv3tguad@prestosports.com
END:VEVENT
BEGIN:VEVENT
DTSTAMP:20260420T230615Z
DTSTART:20170325T010000Z
DURATION:PT3H
SUMMARY:(Men's Volleyball) Santiago Canyon at Golden West
TRANSP:TRANSPARENT
CATEGORIES:Men's Volleyball
DESCRIPTION:Men's Volleyball: (Men's Volleyball) Santiago Canyon at Golden West\, Final\, 0-3
UID:etc1r4dy2rhxabxt@prestosports.com
END:VEVENT
BEGIN:VEVENT
DTSTAMP:20260420T230615Z
DTSTART:20170330T010000Z
DURATION:PT3H
SUMMARY:(Men's Volleyball) Santiago Canyon at Orange Coast
TRANSP:TRANSPARENT
CATEGORIES:Men's Volleyball
DESCRIPTION:Men's Volleyball: (Men's Volleyball) Santiago Canyon at Orange Coast\, OEC: 25-18\, 25-16\, 25-9\, Final\, 0-3
UID:kkkpo372pmrhunmq@prestosports.com
END:VEVENT
BEGIN:VEVENT
DTSTAMP:20260420T230615Z
DTSTART:20170401T010000Z
DURATION:PT3H
SUMMARY:(Men's Volleyball) Santiago Canyon at Fullerton
TRANSP:TRANSPARENT
CATEGORIES:Men's Volleyball
DESCRIPTION:Men's Volleyball: (Men's Volleyball) Santiago Canyon at Fullerton\, 26--24\, 25-9\, 25-22\, Final\, 0-3
UID:erg1rts0owxjbhp5@prestosports.com
END:VEVENT
BEGIN:VEVENT
DTSTAMP:20260420T230615Z
DTSTART:20170406T010000Z
DURATION:PT3H
SUMMARY:(Men's Volleyball) Irvine Valley vs. Santiago Canyon
TRANSP:TRANSPARENT
CATEGORIES:Men's Volleyball
DESCRIPTION:Men's Volleyball: (Men's Volleyball) Irvine Valley vs. Santiago Canyon\, 25-12\, 25-14\, 25-15\, Final\, 0-3
UID:o14bqomidrldti8l@prestosports.com
END:VEVENT
BEGIN:VEVENT
DTSTAMP:20260420T230615Z
DTSTART:20170413T010000Z
DURATION:PT3H
SUMMARY:(Men's Volleyball) Golden West vs. Santiago Canyon
TRANSP:TRANSPARENT
CATEGORIES:Men's Volleyball
DESCRIPTION:Men's Volleyball: (Men's Volleyball) Golden West vs. Santiago Canyon\, Final\, 0-3
UID:q4c28qece96st9b3@prestosports.com
END:VEVENT
BEGIN:VEVENT
DTSTAMP:20260420T230615Z
DTSTART:20170415T010000Z
DURATION:PT3H
SUMMARY:(Men's Volleyball) Santiago Canyon at Orange Coast
TRANSP:TRANSPARENT
CATEGORIES:Men's Volleyball
DESCRIPTION:Men's Volleyball: (Men's Volleyball) Santiago Canyon at Orange Coast\, OEC: 25-19\, 25-13\, 25-18\, Final\, 0-3
UID:wss6k191klnhtmyj@prestosports.com
END:VEVENT
END:VCALENDAR
