BEGIN:VCALENDAR
PRODID:-//www.prestosports.com//PrestoSports//EN
VERSION:2.0
CALSCALE:GREGORIAN
BEGIN:VEVENT
DTSTAMP:20260420T024706Z
DTSTART:20230819T210000Z
DURATION:PT3H
SUMMARY:(Men's Soccer) Cabrillo at West Valley
TRANSP:TRANSPARENT
CATEGORIES:Men's Soccer
DESCRIPTION:Men's Soccer: (Men's Soccer) Cabrillo at West Valley
UID:kalkd7dxcyiqu1xo@prestosports.com
END:VEVENT
BEGIN:VEVENT
DTSTAMP:20260420T024706Z
DTSTART:20230822T230000Z
DURATION:PT3H
SUMMARY:(Men's Soccer) Cabrillo at UCSC
TRANSP:TRANSPARENT
CATEGORIES:Men's Soccer
DESCRIPTION:Men's Soccer: (Men's Soccer) Cabrillo at UCSC
UID:v8yh0radphxdgs2f@prestosports.com
END:VEVENT
BEGIN:VEVENT
DTSTAMP:20260420T024706Z
DTSTART:20230828T210000Z
DURATION:PT3H
SUMMARY:(Men's Soccer) Feather River vs. Cabrillo
TRANSP:TRANSPARENT
CATEGORIES:Men's Soccer
DESCRIPTION:Men's Soccer: (Men's Soccer) Feather River vs. Cabrillo\, Final\, 0-0
UID:fvmriuu0whbikndh@prestosports.com
END:VEVENT
BEGIN:VEVENT
DTSTAMP:20260420T024706Z
DTSTART:20230905T230000Z
DURATION:PT3H
SUMMARY:(Men's Soccer) Cabrillo at Santa Rosa
TRANSP:TRANSPARENT
CATEGORIES:Men's Soccer
DESCRIPTION:Men's Soccer: (Men's Soccer) Cabrillo at Santa Rosa\, Final\, 1-3
UID:7gtg8pzzvi817lar@prestosports.com
END:VEVENT
BEGIN:VEVENT
DTSTAMP:20260420T024706Z
DTSTART:20230909T230000Z
DURATION:PT3H
SUMMARY:(Men's Soccer) Cabrillo at Allan Hancock
TRANSP:TRANSPARENT
CATEGORIES:Men's Soccer
DESCRIPTION:Men's Soccer: (Men's Soccer) Cabrillo at Allan Hancock\, Final\, 5-0
UID:r13svhihsk1c7zna@prestosports.com
END:VEVENT
BEGIN:VEVENT
DTSTAMP:20260420T024706Z
DTSTART:20230912T230000Z
DURATION:PT3H
SUMMARY:(Men's Soccer) Cabrillo at Modesto
TRANSP:TRANSPARENT
CATEGORIES:Men's Soccer
DESCRIPTION:Men's Soccer: (Men's Soccer) Cabrillo at Modesto\, Final\, 1-0
UID:zgjtuc8mv54w4cwx@prestosports.com
END:VEVENT
BEGIN:VEVENT
DTSTAMP:20260420T024706Z
DTSTART:20230916T013000Z
DURATION:PT3H
SUMMARY:(Men's Soccer) American River vs. Cabrillo
TRANSP:TRANSPARENT
CATEGORIES:Men's Soccer
DESCRIPTION:Men's Soccer: (Men's Soccer) American River vs. Cabrillo\, Final\, 3-1
UID:5l9g82uyexl1pga8@prestosports.com
END:VEVENT
BEGIN:VEVENT
DTSTAMP:20260420T024706Z
DTSTART:20230919T230000Z
DURATION:PT3H
SUMMARY:(Men's Soccer) Cabrillo at Merced
TRANSP:TRANSPARENT
CATEGORIES:Men's Soccer
DESCRIPTION:Men's Soccer: (Men's Soccer) Cabrillo at Merced\, Final\, 0-2
UID:z3xnyt8oq2d5c3ew@prestosports.com
END:VEVENT
BEGIN:VEVENT
DTSTAMP:20260420T024706Z
DTSTART:20230922T210000Z
DURATION:PT3H
SUMMARY:(Men's Soccer) Clovis vs. Cabrillo
TRANSP:TRANSPARENT
CATEGORIES:Men's Soccer
DESCRIPTION:Men's Soccer: (Men's Soccer) Clovis vs. Cabrillo\, Final\, 2-0
UID:jneyl37flom3a8vm@prestosports.com
END:VEVENT
BEGIN:VEVENT
DTSTAMP:20260420T024706Z
DTSTART:20230926T230000Z
DURATION:PT3H
SUMMARY:(Men's Soccer) Foothill vs. Cabrillo
TRANSP:TRANSPARENT
CATEGORIES:Men's Soccer
DESCRIPTION:Men's Soccer: (Men's Soccer) Foothill vs. Cabrillo\, Final\, 1-1
UID:p0vyci2qvmlzlgi4@prestosports.com
END:VEVENT
BEGIN:VEVENT
DTSTAMP:20260420T024706Z
DTSTART:20230929T230000Z
DURATION:PT3H
SUMMARY:(Men's Soccer) Cabrillo at Gavilan
TRANSP:TRANSPARENT
CATEGORIES:Men's Soccer
DESCRIPTION:Men's Soccer: (Men's Soccer) Cabrillo at Gavilan\, Final\, 1-0
UID:dd4ggth0rnr0gqc4@prestosports.com
END:VEVENT
BEGIN:VEVENT
DTSTAMP:20260420T024706Z
DTSTART:20231003T230000Z
DURATION:PT3H
SUMMARY:(Men's Soccer) Cabrillo at Monterey Peninsula
TRANSP:TRANSPARENT
CATEGORIES:Men's Soccer
DESCRIPTION:Men's Soccer: (Men's Soccer) Cabrillo at Monterey Peninsula\, Final\, 5-0
UID:eaq9g7gpb3y9jkb9@prestosports.com
END:VEVENT
BEGIN:VEVENT
DTSTAMP:20260420T024706Z
DTSTART:20231006T230000Z
DURATION:PT3H
SUMMARY:(Men's Soccer) Cabrillo at West Valley
TRANSP:TRANSPARENT
CATEGORIES:Men's Soccer
DESCRIPTION:Men's Soccer: (Men's Soccer) Cabrillo at West Valley\, Final\, 2-3
UID:9yvp1j4voksxp4qn@prestosports.com
END:VEVENT
BEGIN:VEVENT
DTSTAMP:20260420T024706Z
DTSTART:20231010T233000Z
DURATION:PT3H
SUMMARY:(Men's Soccer) De Anza vs. Cabrillo
TRANSP:TRANSPARENT
CATEGORIES:Men's Soccer
DESCRIPTION:Men's Soccer: (Men's Soccer) De Anza vs. Cabrillo\, Final\, 2-3
UID:rk6b22ue0f1b1ao7@prestosports.com
END:VEVENT
BEGIN:VEVENT
DTSTAMP:20260420T024706Z
DTSTART:20231013T230000Z
DURATION:PT3H
SUMMARY:(Men's Soccer) Cabrillo at Chabot
TRANSP:TRANSPARENT
CATEGORIES:Men's Soccer
DESCRIPTION:Men's Soccer: (Men's Soccer) Cabrillo at Chabot\, Final\, 0-1
UID:f39jxs2rbkbw9rws@prestosports.com
END:VEVENT
BEGIN:VEVENT
DTSTAMP:20260420T024706Z
DTSTART:20231017T230000Z
DURATION:PT3H
SUMMARY:(Men's Soccer) Cañada vs. Cabrillo
TRANSP:TRANSPARENT
CATEGORIES:Men's Soccer
DESCRIPTION:Men's Soccer: (Men's Soccer) Cañada vs. Cabrillo\, Final\, 0-4
UID:f44qhak0ez4xtm5s@prestosports.com
END:VEVENT
BEGIN:VEVENT
DTSTAMP:20260420T024706Z
DTSTART:20231024T203000Z
DURATION:PT3H
SUMMARY:(Men's Soccer) Cabrillo at Hartnell
TRANSP:TRANSPARENT
CATEGORIES:Men's Soccer
DESCRIPTION:Men's Soccer: (Men's Soccer) Cabrillo at Hartnell\, Final\, 0-2
UID:tdondzpc3a8x4tds@prestosports.com
END:VEVENT
BEGIN:VEVENT
DTSTAMP:20260420T024706Z
DTSTART:20231027T200000Z
DURATION:PT3H
SUMMARY:(Men's Soccer) Cabrillo at Skyline
TRANSP:TRANSPARENT
CATEGORIES:Men's Soccer
DESCRIPTION:Men's Soccer: (Men's Soccer) Cabrillo at Skyline\, Final\, 2-4
UID:zes4tvrwju0oftmk@prestosports.com
END:VEVENT
BEGIN:VEVENT
DTSTAMP:20260420T024706Z
DTSTART:20231031T193000Z
DURATION:PT3H
SUMMARY:(Men's Soccer) Ohlone vs. Cabrillo
TRANSP:TRANSPARENT
CATEGORIES:Men's Soccer
DESCRIPTION:Men's Soccer: (Men's Soccer) Ohlone vs. Cabrillo\, Final\, 4-0
UID:scwnqrdzyeg82w8t@prestosports.com
END:VEVENT
BEGIN:VEVENT
DTSTAMP:20260420T024706Z
DTSTART:20231104T013000Z
DURATION:PT3H
SUMMARY:(Men's Soccer) Cabrillo at Las Positas
TRANSP:TRANSPARENT
CATEGORIES:Men's Soccer
DESCRIPTION:Men's Soccer: (Men's Soccer) Cabrillo at Las Positas\, Final\, 0-1
UID:54r6bxa8rb4k134d@prestosports.com
END:VEVENT
BEGIN:VEVENT
DTSTAMP:20260420T024706Z
DTSTART:20231108T033000Z
DURATION:PT3H
SUMMARY:(Men's Soccer) Evergreen Valley vs. Cabrillo
TRANSP:TRANSPARENT
CATEGORIES:Men's Soccer
DESCRIPTION:Men's Soccer: (Men's Soccer) Evergreen Valley vs. Cabrillo\, Final\, 1-2
UID:rfe0345q7lb6ym4u@prestosports.com
END:VEVENT
BEGIN:VEVENT
DTSTAMP:20260420T024706Z
DTSTART:20231111T010000Z
DURATION:PT3H
SUMMARY:(Men's Soccer) San Francisco vs. Cabrillo
TRANSP:TRANSPARENT
CATEGORIES:Men's Soccer
DESCRIPTION:Men's Soccer: (Men's Soccer) San Francisco vs. Cabrillo\, Final\, 1-2
UID:exm73q7cvwjd3j1l@prestosports.com
END:VEVENT
END:VCALENDAR
