BEGIN:VCALENDAR
PRODID:-//www.prestosports.com//PrestoSports//EN
VERSION:2.0
CALSCALE:GREGORIAN
BEGIN:VEVENT
DTSTAMP:20260426T001915Z
DTSTART:20180827T220000Z
DURATION:PT3H
SUMMARY:(Men's Soccer) Las Positas at Merritt
TRANSP:TRANSPARENT
CATEGORIES:Men's Soccer
DESCRIPTION:Men's Soccer: (Men's Soccer) Las Positas at Merritt\, Final\, 1-1
UID:jmmdlcakcwwk9o3l@prestosports.com
END:VEVENT
BEGIN:VEVENT
DTSTAMP:20260426T001915Z
DTSTART:20180830T210000Z
DURATION:PT3H
SUMMARY:(Men's Soccer) Lassen vs. Las Positas
TRANSP:TRANSPARENT
CATEGORIES:Men's Soccer
DESCRIPTION:Men's Soccer: (Men's Soccer) Lassen vs. Las Positas\, Final\, 6-0
UID:4a1c9ej9ply0g5em@prestosports.com
END:VEVENT
BEGIN:VEVENT
DTSTAMP:20260426T001915Z
DTSTART:20180831T180000Z
DURATION:PT3H
SUMMARY:(Men's Soccer) Modesto vs. Las Positas
TRANSP:TRANSPARENT
CATEGORIES:Men's Soccer
DESCRIPTION:Men's Soccer: (Men's Soccer) Modesto vs. Las Positas\, Final\, 3-0
UID:ppshf1wytmnikabk@prestosports.com
END:VEVENT
BEGIN:VEVENT
DTSTAMP:20260426T001915Z
DTSTART:20180907T200000Z
DURATION:PT3H
SUMMARY:(Men's Soccer) Las Positas at Fresno City
TRANSP:TRANSPARENT
CATEGORIES:Men's Soccer
DESCRIPTION:Men's Soccer: (Men's Soccer) Las Positas at Fresno City\, Final\, 1-1
UID:lz48zwg6839r680g@prestosports.com
END:VEVENT
BEGIN:VEVENT
DTSTAMP:20260426T001915Z
DTSTART:20180911T230000Z
DURATION:PT3H
SUMMARY:(Men's Soccer) Santa Rosa vs. Las Positas
TRANSP:TRANSPARENT
CATEGORIES:Men's Soccer
DESCRIPTION:Men's Soccer: (Men's Soccer) Santa Rosa vs. Las Positas\, Final\, 4-1
UID:7tkd174uomsccb8x@prestosports.com
END:VEVENT
BEGIN:VEVENT
DTSTAMP:20260426T001915Z
DTSTART:20180914T230000Z
DURATION:PT3H
SUMMARY:(Men's Soccer) Lake Tahoe vs. Las Positas
TRANSP:TRANSPARENT
CATEGORIES:Men's Soccer
DESCRIPTION:Men's Soccer: (Men's Soccer) Lake Tahoe vs. Las Positas\, Final\, 0-2
UID:jzo3yf0fcxfndlj4@prestosports.com
END:VEVENT
BEGIN:VEVENT
DTSTAMP:20260426T001915Z
DTSTART:20180918T230000Z
DURATION:PT3H
SUMMARY:(Men's Soccer) Contra Costa vs. Las Positas
TRANSP:TRANSPARENT
CATEGORIES:Men's Soccer
DESCRIPTION:Men's Soccer: (Men's Soccer) Contra Costa vs. Las Positas\, Final\, 1-4
UID:fd753ev6nwdb4mrr@prestosports.com
END:VEVENT
BEGIN:VEVENT
DTSTAMP:20260426T001915Z
DTSTART:20180921T230000Z
DURATION:PT3H
SUMMARY:(Men's Soccer) Las Positas at Napa Valley
TRANSP:TRANSPARENT
CATEGORIES:Men's Soccer
DESCRIPTION:Men's Soccer: (Men's Soccer) Las Positas at Napa Valley\, Final\, 0-1
UID:fg9ywou7anok0tu1@prestosports.com
END:VEVENT
BEGIN:VEVENT
DTSTAMP:20260426T001915Z
DTSTART:20180925T190000Z
DURATION:PT3H
SUMMARY:(Men's Soccer) Las Positas at Monterey Peninsula
TRANSP:TRANSPARENT
CATEGORIES:Men's Soccer
DESCRIPTION:Men's Soccer: (Men's Soccer) Las Positas at Monterey Peninsula\, Final\, 13-1
UID:baz99slp3ghfx5zi@prestosports.com
END:VEVENT
BEGIN:VEVENT
DTSTAMP:20260426T001915Z
DTSTART:20180929T013000Z
DURATION:PT3H
SUMMARY:(Men's Soccer) Cabrillo vs. Las Positas
TRANSP:TRANSPARENT
CATEGORIES:Men's Soccer
DESCRIPTION:Men's Soccer: (Men's Soccer) Cabrillo vs. Las Positas\, Final\, 1-0
UID:yzrqrce373dbhtdl@prestosports.com
END:VEVENT
BEGIN:VEVENT
DTSTAMP:20260426T001915Z
DTSTART:20181002T230000Z
DURATION:PT3H
SUMMARY:(Men's Soccer) Las Positas at Cañada
TRANSP:TRANSPARENT
CATEGORIES:Men's Soccer
DESCRIPTION:Men's Soccer: (Men's Soccer) Las Positas at Cañada\, Final\, 1-0
UID:i4fgeywwt164i7ne@prestosports.com
END:VEVENT
BEGIN:VEVENT
DTSTAMP:20260426T001915Z
DTSTART:20181005T203000Z
DURATION:PT3H
SUMMARY:(Men's Soccer) Gavilan vs. Las Positas
TRANSP:TRANSPARENT
CATEGORIES:Men's Soccer
DESCRIPTION:Men's Soccer: (Men's Soccer) Gavilan vs. Las Positas\, Final\, 5-0
UID:7u9hy8o27ddbcl3v@prestosports.com
END:VEVENT
BEGIN:VEVENT
DTSTAMP:20260426T001915Z
DTSTART:20181009T203000Z
DURATION:PT3H
SUMMARY:(Men's Soccer) Hartnell vs. Las Positas
TRANSP:TRANSPARENT
CATEGORIES:Men's Soccer
DESCRIPTION:Men's Soccer: (Men's Soccer) Hartnell vs. Las Positas\, Final\, 0-2
UID:8zh35y12kn06cxzl@prestosports.com
END:VEVENT
BEGIN:VEVENT
DTSTAMP:20260426T001915Z
DTSTART:20181013T013000Z
DURATION:PT3H
SUMMARY:(Men's Soccer) Skyline vs. Las Positas
TRANSP:TRANSPARENT
CATEGORIES:Men's Soccer
DESCRIPTION:Men's Soccer: (Men's Soccer) Skyline vs. Las Positas\, Final\, 2-1
UID:yum2nqlb8ojqqd8a@prestosports.com
END:VEVENT
BEGIN:VEVENT
DTSTAMP:20260426T001915Z
DTSTART:20181019T230000Z
DURATION:PT3H
SUMMARY:(Men's Soccer) Las Positas at Foothill
TRANSP:TRANSPARENT
CATEGORIES:Men's Soccer
DESCRIPTION:Men's Soccer: (Men's Soccer) Las Positas at Foothill\, Final\, 1-0
UID:sow0t28p9fo5sd2l@prestosports.com
END:VEVENT
BEGIN:VEVENT
DTSTAMP:20260426T001915Z
DTSTART:20181023T230000Z
DURATION:PT3H
SUMMARY:(Men's Soccer) Las Positas at Ohlone
TRANSP:TRANSPARENT
CATEGORIES:Men's Soccer
DESCRIPTION:Men's Soccer: (Men's Soccer) Las Positas at Ohlone\, Final\, 4-0
UID:fvdquly342omk91w@prestosports.com
END:VEVENT
BEGIN:VEVENT
DTSTAMP:20260426T001915Z
DTSTART:20181026T230000Z
DURATION:PT3H
SUMMARY:(Men's Soccer) Las Positas at Evergreen Valley
TRANSP:TRANSPARENT
CATEGORIES:Men's Soccer
DESCRIPTION:Men's Soccer: (Men's Soccer) Las Positas at Evergreen Valley\, Final\, 1-3
UID:hvvuaz92nkuykgjg@prestosports.com
END:VEVENT
BEGIN:VEVENT
DTSTAMP:20260426T001915Z
DTSTART:20181030T220000Z
DURATION:PT3H
SUMMARY:(Men's Soccer) Las Positas at De Anza
TRANSP:TRANSPARENT
CATEGORIES:Men's Soccer
DESCRIPTION:Men's Soccer: (Men's Soccer) Las Positas at De Anza\, Final\, 0-1
UID:gpnon62c6ijjryz0@prestosports.com
END:VEVENT
BEGIN:VEVENT
DTSTAMP:20260426T001915Z
DTSTART:20181102T220000Z
DURATION:PT3H
SUMMARY:(Men's Soccer) Las Positas at West Valley
TRANSP:TRANSPARENT
CATEGORIES:Men's Soccer
DESCRIPTION:Men's Soccer: (Men's Soccer) Las Positas at West Valley\, Final\, 1-2
UID:nkfkwx2wivk1cwf4@prestosports.com
END:VEVENT
BEGIN:VEVENT
DTSTAMP:20260426T001915Z
DTSTART:20181107T023000Z
DURATION:PT3H
SUMMARY:(Men's Soccer) San Francisco vs. Las Positas
TRANSP:TRANSPARENT
CATEGORIES:Men's Soccer
DESCRIPTION:Men's Soccer: (Men's Soccer) San Francisco vs. Las Positas\, Final\, 0-0
UID:8erbgdnwzf29t8lh@prestosports.com
END:VEVENT
BEGIN:VEVENT
DTSTAMP:20260426T001915Z
DTSTART:20181110T000000Z
DURATION:PT3H
SUMMARY:(Men's Soccer) Chabot vs. Las Positas
TRANSP:TRANSPARENT
CATEGORIES:Men's Soccer
DESCRIPTION:Men's Soccer: (Men's Soccer) Chabot vs. Las Positas\, postponed due to poor air quality\, Postponed
UID:003vmhghddvg5okb@prestosports.com
END:VEVENT
BEGIN:VEVENT
DTSTAMP:20260426T001915Z
DTSTART:20181112T180000Z
DURATION:PT3H
SUMMARY:(Men's Soccer) Chabot vs. Las Positas
TRANSP:TRANSPARENT
CATEGORIES:Men's Soccer
DESCRIPTION:Men's Soccer: (Men's Soccer) Chabot vs. Las Positas\, Postponed due to air quality being at 169 (unhealthy) on 11/12/19\, Postponed
UID:2tp23tz5i8dwoi2n@prestosports.com
END:VEVENT
BEGIN:VEVENT
DTSTAMP:20260426T001915Z
DTSTART:20181121T220000Z
DURATION:PT3H
SUMMARY:(Men's Soccer) Las Positas at Fresno City
TRANSP:TRANSPARENT
CATEGORIES:Men's Soccer
DESCRIPTION:Men's Soccer: (Men's Soccer) Las Positas at Fresno City\, CCCAA NorCal Opening Round\, Final\, 1-2
UID:pp2v7bfc640wdrlj@prestosports.com
END:VEVENT
END:VCALENDAR
