BEGIN:VCALENDAR
PRODID:-//www.prestosports.com//PrestoSports//EN
VERSION:2.0
CALSCALE:GREGORIAN
BEGIN:VEVENT
DTSTAMP:20260424T221247Z
DTSTART:20160825T020000Z
DURATION:PT3H
SUMMARY:(Men's Soccer) Sacramento Republic F.C. U-18's Academy vs. Cosumnes River
TRANSP:TRANSPARENT
CATEGORIES:Men's Soccer
DESCRIPTION:Men's Soccer: (Men's Soccer) Sacramento Republic F.C. U-18's Academy vs. Cosumnes River\, Scrimmage
UID:pvmdug83vajxe256@prestosports.com
END:VEVENT
BEGIN:VEVENT
DTSTAMP:20260424T221247Z
DTSTART:20160828T020000Z
DURATION:PT3H
SUMMARY:(Men's Soccer) Cosumnes River at Evergreen Valley
TRANSP:TRANSPARENT
CATEGORIES:Men's Soccer
DESCRIPTION:Men's Soccer: (Men's Soccer) Cosumnes River at Evergreen Valley\, Final\, 2-4
UID:x3s0pwzdmipdsyys@prestosports.com
END:VEVENT
BEGIN:VEVENT
DTSTAMP:20260424T221247Z
DTSTART:20160902T230000Z
DURATION:PT3H
SUMMARY:(Men's Soccer) Cañada vs. Cosumnes River
TRANSP:TRANSPARENT
CATEGORIES:Men's Soccer
DESCRIPTION:Men's Soccer: (Men's Soccer) Cañada vs. Cosumnes River\, Final\, 3-0
UID:xjzn24i3z8tcj7yx@prestosports.com
END:VEVENT
BEGIN:VEVENT
DTSTAMP:20260424T221247Z
DTSTART:20160909T210000Z
DURATION:PT3H
SUMMARY:(Men's Soccer) Bakersfield vs. Cosumnes River
TRANSP:TRANSPARENT
CATEGORIES:Men's Soccer
DESCRIPTION:Men's Soccer: (Men's Soccer) Bakersfield vs. Cosumnes River\, Tournament\, Final\, 3-2
UID:mrkii2ls8nq5u8lj@prestosports.com
END:VEVENT
BEGIN:VEVENT
DTSTAMP:20260424T221247Z
DTSTART:20160910T210000Z
DURATION:PT3H
SUMMARY:(Men's Soccer) Monterey vs. Cosumnes River
TRANSP:TRANSPARENT
CATEGORIES:Men's Soccer
DESCRIPTION:Men's Soccer: (Men's Soccer) Monterey vs. Cosumnes River\, Final\, 4-1
UID:1bjm8khdm05w7ztv@prestosports.com
END:VEVENT
BEGIN:VEVENT
DTSTAMP:20260424T221247Z
DTSTART:20160914T020000Z
DURATION:PT3H
SUMMARY:(Men's Soccer) Hartnell vs. Cosumnes River
TRANSP:TRANSPARENT
CATEGORIES:Men's Soccer
DESCRIPTION:Men's Soccer: (Men's Soccer) Hartnell vs. Cosumnes River\, Final\, 1-2
UID:2u240rkhwzr77o4r@prestosports.com
END:VEVENT
BEGIN:VEVENT
DTSTAMP:20260424T221247Z
DTSTART:20160917T200000Z
DURATION:PT3H
SUMMARY:(Men's Soccer) Cosumnes River at Antelope Valley
TRANSP:TRANSPARENT
CATEGORIES:Men's Soccer
DESCRIPTION:Men's Soccer: (Men's Soccer) Cosumnes River at Antelope Valley\, Final\, 2-4
UID:e4wk4k4qnppo3vjm@prestosports.com
END:VEVENT
BEGIN:VEVENT
DTSTAMP:20260424T221247Z
DTSTART:20160918T220000Z
DURATION:PT3H
SUMMARY:(Men's Soccer) Cosumnes River at Canyons
TRANSP:TRANSPARENT
CATEGORIES:Men's Soccer
DESCRIPTION:Men's Soccer: (Men's Soccer) Cosumnes River at Canyons\, Final\, 1-2
UID:2p8tpw1j5ao1p6ik@prestosports.com
END:VEVENT
BEGIN:VEVENT
DTSTAMP:20260424T221247Z
DTSTART:20160923T230000Z
DURATION:PT3H
SUMMARY:(Men's Soccer) American River vs. Cosumnes River
TRANSP:TRANSPARENT
CATEGORIES:Men's Soccer
DESCRIPTION:Men's Soccer: (Men's Soccer) American River vs. Cosumnes River\, Final\, 4-3
UID:axcdbhv5qiezatsl@prestosports.com
END:VEVENT
BEGIN:VEVENT
DTSTAMP:20260424T221247Z
DTSTART:20160927T230000Z
DURATION:PT3H
SUMMARY:(Men's Soccer) Cosumnes River at Modesto
TRANSP:TRANSPARENT
CATEGORIES:Men's Soccer
DESCRIPTION:Men's Soccer: (Men's Soccer) Cosumnes River at Modesto\, Final\, 2-1
UID:qwkkpymi71jfex72@prestosports.com
END:VEVENT
BEGIN:VEVENT
DTSTAMP:20260424T221247Z
DTSTART:20160930T230000Z
DURATION:PT3H
SUMMARY:(Men's Soccer) Cosumnes River at Santa Rosa
TRANSP:TRANSPARENT
CATEGORIES:Men's Soccer
DESCRIPTION:Men's Soccer: (Men's Soccer) Cosumnes River at Santa Rosa\, Final\, 2-3
UID:alcxfu2wnwl1kntr@prestosports.com
END:VEVENT
BEGIN:VEVENT
DTSTAMP:20260424T221247Z
DTSTART:20161005T010000Z
DURATION:PT3H
SUMMARY:(Men's Soccer) Cosumnes River at Folsom Lake
TRANSP:TRANSPARENT
CATEGORIES:Men's Soccer
DESCRIPTION:Men's Soccer: (Men's Soccer) Cosumnes River at Folsom Lake\, Final\, 0-1
UID:4rae08xksowkg9u7@prestosports.com
END:VEVENT
BEGIN:VEVENT
DTSTAMP:20260424T221247Z
DTSTART:20161007T210000Z
DURATION:PT3H
SUMMARY:(Men's Soccer) Cosumnes River at San Joaquin Delta
TRANSP:TRANSPARENT
CATEGORIES:Men's Soccer
DESCRIPTION:Men's Soccer: (Men's Soccer) Cosumnes River at San Joaquin Delta\, Final\, 1-1
UID:osl7c3b27hypl9ko@prestosports.com
END:VEVENT
BEGIN:VEVENT
DTSTAMP:20260424T221247Z
DTSTART:20161011T230000Z
DURATION:PT3H
SUMMARY:(Men's Soccer) Sequoias vs. Cosumnes River
TRANSP:TRANSPARENT
CATEGORIES:Men's Soccer
DESCRIPTION:Men's Soccer: (Men's Soccer) Sequoias vs. Cosumnes River\, Final\, 3-2
UID:7g9wpib13qdovvh2@prestosports.com
END:VEVENT
BEGIN:VEVENT
DTSTAMP:20260424T221247Z
DTSTART:20161014T230000Z
DURATION:PT3H
SUMMARY:(Men's Soccer) Cosumnes River at Clovis
TRANSP:TRANSPARENT
CATEGORIES:Men's Soccer
DESCRIPTION:Men's Soccer: (Men's Soccer) Cosumnes River at Clovis\, Final\, 1-1
UID:2cuq8ponm33q3ewc@prestosports.com
END:VEVENT
BEGIN:VEVENT
DTSTAMP:20260424T221247Z
DTSTART:20161018T213000Z
DURATION:PT3H
SUMMARY:(Men's Soccer) Cosumnes River at Fresno City
TRANSP:TRANSPARENT
CATEGORIES:Men's Soccer
DESCRIPTION:Men's Soccer: (Men's Soccer) Cosumnes River at Fresno City\, Final\, 2-5
UID:x1i00v3psy3srbcg@prestosports.com
END:VEVENT
BEGIN:VEVENT
DTSTAMP:20260424T221247Z
DTSTART:20161021T230000Z
DURATION:PT3H
SUMMARY:(Men's Soccer) Lemoore vs. Cosumnes River
TRANSP:TRANSPARENT
CATEGORIES:Men's Soccer
DESCRIPTION:Men's Soccer: (Men's Soccer) Lemoore vs. Cosumnes River\, Final\, 4-1
UID:eckazzhrkgsdqlqc@prestosports.com
END:VEVENT
BEGIN:VEVENT
DTSTAMP:20260424T221247Z
DTSTART:20161028T230000Z
DURATION:PT3H
SUMMARY:(Men's Soccer) Modesto vs. Cosumnes River
TRANSP:TRANSPARENT
CATEGORIES:Men's Soccer
DESCRIPTION:Men's Soccer: (Men's Soccer) Modesto vs. Cosumnes River\, Final\, 0-0
UID:um2zd69bhs7j3u62@prestosports.com
END:VEVENT
BEGIN:VEVENT
DTSTAMP:20260424T221247Z
DTSTART:20161101T220000Z
DURATION:PT3H
SUMMARY:(Men's Soccer) Folsom Lake vs. Cosumnes River
TRANSP:TRANSPARENT
CATEGORIES:Men's Soccer
DESCRIPTION:Men's Soccer: (Men's Soccer) Folsom Lake vs. Cosumnes River\, Final\, 1-0
UID:7nltme1oy1ztw8zv@prestosports.com
END:VEVENT
BEGIN:VEVENT
DTSTAMP:20260424T221247Z
DTSTART:20161105T010000Z
DURATION:PT3H
SUMMARY:(Men's Soccer) Cosumnes River at American River
TRANSP:TRANSPARENT
CATEGORIES:Men's Soccer
DESCRIPTION:Men's Soccer: (Men's Soccer) Cosumnes River at American River\, Final\, 0-4
UID:h2puaziawdzqzij7@prestosports.com
END:VEVENT
BEGIN:VEVENT
DTSTAMP:20260424T221247Z
DTSTART:20161108T230000Z
DURATION:PT3H
SUMMARY:(Men's Soccer) San Joaquin Delta vs. Cosumnes River
TRANSP:TRANSPARENT
CATEGORIES:Men's Soccer
DESCRIPTION:Men's Soccer: (Men's Soccer) San Joaquin Delta vs. Cosumnes River\, Final\, 2-2
UID:xmpz3xt1y3ecal5e@prestosports.com
END:VEVENT
BEGIN:VEVENT
DTSTAMP:20260424T221247Z
DTSTART:20161111T230000Z
DURATION:PT3H
SUMMARY:(Men's Soccer) Santa Rosa vs. Cosumnes River
TRANSP:TRANSPARENT
CATEGORIES:Men's Soccer
DESCRIPTION:Men's Soccer: (Men's Soccer) Santa Rosa vs. Cosumnes River\, Final\, 1-3
UID:pl834tohgihgius8@prestosports.com
END:VEVENT
END:VCALENDAR
