BEGIN:VCALENDAR
PRODID:-//www.prestosports.com//PrestoSports//EN
VERSION:2.0
CALSCALE:GREGORIAN
BEGIN:VEVENT
DTSTAMP:20260424T123655Z
DTSTART:20121110T033000Z
DURATION:PT3H
SUMMARY:(Men's Basketball) Santa Monica vs. Cerritos
TRANSP:TRANSPARENT
CATEGORIES:Men's Basketball
LOCATION:Biola University
DESCRIPTION:Men's Basketball: (Men's Basketball) Santa Monica vs. Cerritos\, Final\, 72-71
UID:76s0lhmg8ywjbycj@prestosports.com
END:VEVENT
BEGIN:VEVENT
DTSTAMP:20260424T123655Z
DTSTART:20121116T040000Z
DURATION:PT3H
SUMMARY:(Men's Basketball) Santa Monica vs. Imperial Valley
TRANSP:TRANSPARENT
CATEGORIES:Men's Basketball
LOCATION:Irvine Valley 
DESCRIPTION:Men's Basketball: (Men's Basketball) Santa Monica vs. Imperial Valley\, Final\, 75-81
UID:2x29c8mzmgo5gfc6@prestosports.com
END:VEVENT
BEGIN:VEVENT
DTSTAMP:20260424T123655Z
DTSTART:20121116T230000Z
DURATION:PT3H
SUMMARY:(Men's Basketball) Santa Monica at Irvine Valley
TRANSP:TRANSPARENT
CATEGORIES:Men's Basketball
DESCRIPTION:Men's Basketball: (Men's Basketball) Santa Monica at Irvine Valley\, Final\, 63-72
UID:zhfs2lt0cw5rj1fh@prestosports.com
END:VEVENT
BEGIN:VEVENT
DTSTAMP:20260424T123655Z
DTSTART:20121121T020000Z
DURATION:PT3H
SUMMARY:(Men's Basketball) Santa Monica at LA Southwest
TRANSP:TRANSPARENT
CATEGORIES:Men's Basketball
DESCRIPTION:Men's Basketball: (Men's Basketball) Santa Monica at LA Southwest\, Final\, 73-72
UID:u0ua0hrr43obwhxn@prestosports.com
END:VEVENT
BEGIN:VEVENT
DTSTAMP:20260424T123655Z
DTSTART:20121201T030000Z
DURATION:PT3H
SUMMARY:(Men's Basketball) Pasadena vs. Santa Monica
TRANSP:TRANSPARENT
CATEGORIES:Men's Basketball
DESCRIPTION:Men's Basketball: (Men's Basketball) Pasadena vs. Santa Monica\, Final\, 87-70
UID:kav2gpaomn9088sp@prestosports.com
END:VEVENT
BEGIN:VEVENT
DTSTAMP:20260424T123655Z
DTSTART:20121208T030000Z
DURATION:PT3H
SUMMARY:(Men's Basketball) Rio Hondo vs. Santa Monica
TRANSP:TRANSPARENT
CATEGORIES:Men's Basketball
DESCRIPTION:Men's Basketball: (Men's Basketball) Rio Hondo vs. Santa Monica\, SMC Tournament\, Final\, 89-86
UID:ss88xk3xqxogg3dr@prestosports.com
END:VEVENT
BEGIN:VEVENT
DTSTAMP:20260424T123655Z
DTSTART:20121208T210000Z
DURATION:PT3H
SUMMARY:(Men's Basketball) Grossmont vs. Santa Monica
TRANSP:TRANSPARENT
CATEGORIES:Men's Basketball
DESCRIPTION:Men's Basketball: (Men's Basketball) Grossmont vs. Santa Monica\, SMC Tournament\, Final\, 73-87
UID:g1hojgotfouz5xpo@prestosports.com
END:VEVENT
BEGIN:VEVENT
DTSTAMP:20260424T123655Z
DTSTART:20121212T013000Z
DURATION:PT3H
SUMMARY:(Men's Basketball) Santa Monica at Fullerton
TRANSP:TRANSPARENT
CATEGORIES:Men's Basketball
DESCRIPTION:Men's Basketball: (Men's Basketball) Santa Monica at Fullerton\, Final\, 63-68
UID:eydmr2k4b3jr2zjk@prestosports.com
END:VEVENT
BEGIN:VEVENT
DTSTAMP:20260424T123655Z
DTSTART:20121215T230000Z
DURATION:PT3H
SUMMARY:(Men's Basketball) El Camino-Compton Center vs. Santa Monica
TRANSP:TRANSPARENT
CATEGORIES:Men's Basketball
DESCRIPTION:Men's Basketball: (Men's Basketball) El Camino-Compton Center vs. Santa Monica\, Final\, 105-97
UID:1e95zhonk531zqra@prestosports.com
END:VEVENT
BEGIN:VEVENT
DTSTAMP:20260424T123655Z
DTSTART:20121221T013000Z
DURATION:PT3H
SUMMARY:(Men's Basketball) LA Harbor vs. Santa Monica
TRANSP:TRANSPARENT
CATEGORIES:Men's Basketball
DESCRIPTION:Men's Basketball: (Men's Basketball) LA Harbor vs. Santa Monica\, Final\, 67-65
UID:kj1jvmuhx2xfz22y@prestosports.com
END:VEVENT
BEGIN:VEVENT
DTSTAMP:20260424T123655Z
DTSTART:20121229T030000Z
DURATION:PT3H
SUMMARY:(Men's Basketball) Santa Monica vs. Diablo Valley
TRANSP:TRANSPARENT
CATEGORIES:Men's Basketball
LOCATION:Diablo Valley
DESCRIPTION:Men's Basketball: (Men's Basketball) Santa Monica vs. Diablo Valley\, Diablo Valley\, Final\, 72-65
UID:e1hm1na8x39cwces@prestosports.com
END:VEVENT
BEGIN:VEVENT
DTSTAMP:20260424T123655Z
DTSTART:20121229T220000Z
DURATION:PT3H
SUMMARY:(Men's Basketball) Shasta vs. Santa Monica
TRANSP:TRANSPARENT
CATEGORIES:Men's Basketball
LOCATION:Diablo Valley
DESCRIPTION:Men's Basketball: (Men's Basketball) Shasta vs. Santa Monica\, Final\, 85-79
UID:c6ujdl575h5mj3cd@prestosports.com
END:VEVENT
BEGIN:VEVENT
DTSTAMP:20260424T123655Z
DTSTART:20130110T010000Z
DURATION:PT3H
SUMMARY:(Men's Basketball) Santa Monica at Bakersfield
TRANSP:TRANSPARENT
CATEGORIES:Men's Basketball
DESCRIPTION:Men's Basketball: (Men's Basketball) Santa Monica at Bakersfield\, Final\, 66-69
UID:9f7jkjqs48mz0ln2@prestosports.com
END:VEVENT
BEGIN:VEVENT
DTSTAMP:20260424T123655Z
DTSTART:20130112T210000Z
DURATION:PT3H
SUMMARY:(Men's Basketball) LA Valley vs. Santa Monica
TRANSP:TRANSPARENT
CATEGORIES:Men's Basketball
DESCRIPTION:Men's Basketball: (Men's Basketball) LA Valley vs. Santa Monica\, Final\, 79-72
UID:stk0q2swk6sq4uug@prestosports.com
END:VEVENT
BEGIN:VEVENT
DTSTAMP:20260424T123655Z
DTSTART:20130117T010000Z
DURATION:PT3H
SUMMARY:(Men's Basketball) Santa Monica at Glendale
TRANSP:TRANSPARENT
CATEGORIES:Men's Basketball
DESCRIPTION:Men's Basketball: (Men's Basketball) Santa Monica at Glendale\, Final\, 77-71
UID:5qdba8x0a2ggon01@prestosports.com
END:VEVENT
BEGIN:VEVENT
DTSTAMP:20260424T123655Z
DTSTART:20130124T010000Z
DURATION:PT3H
SUMMARY:(Men's Basketball) Canyons vs. Santa Monica
TRANSP:TRANSPARENT
CATEGORIES:Men's Basketball
DESCRIPTION:Men's Basketball: (Men's Basketball) Canyons vs. Santa Monica\, Final\, 74-84
UID:f00s5r8qcivzh6l0@prestosports.com
END:VEVENT
BEGIN:VEVENT
DTSTAMP:20260424T123655Z
DTSTART:20130127T010000Z
DURATION:PT3H
SUMMARY:(Men's Basketball) Santa Monica at Citrus
TRANSP:TRANSPARENT
CATEGORIES:Men's Basketball
DESCRIPTION:Men's Basketball: (Men's Basketball) Santa Monica at Citrus\, Final\, 74-91
UID:qwx9uzpa67lxpncu@prestosports.com
END:VEVENT
BEGIN:VEVENT
DTSTAMP:20260424T123655Z
DTSTART:20130202T210000Z
DURATION:PT3H
SUMMARY:(Men's Basketball) Bakersfield vs. Santa Monica
TRANSP:TRANSPARENT
CATEGORIES:Men's Basketball
DESCRIPTION:Men's Basketball: (Men's Basketball) Bakersfield vs. Santa Monica\, Final\, 96-85
UID:femf8u6zrpecxlvn@prestosports.com
END:VEVENT
BEGIN:VEVENT
DTSTAMP:20260424T123655Z
DTSTART:20130207T010000Z
DURATION:PT3H
SUMMARY:(Men's Basketball) Santa Monica at LA Valley
TRANSP:TRANSPARENT
CATEGORIES:Men's Basketball
DESCRIPTION:Men's Basketball: (Men's Basketball) Santa Monica at LA Valley\, Final\, 69-67
UID:euyva4x8xtx8drrp@prestosports.com
END:VEVENT
BEGIN:VEVENT
DTSTAMP:20260424T123655Z
DTSTART:20130209T210000Z
DURATION:PT3H
SUMMARY:(Men's Basketball) Glendale vs. Santa Monica
TRANSP:TRANSPARENT
CATEGORIES:Men's Basketball
DESCRIPTION:Men's Basketball: (Men's Basketball) Glendale vs. Santa Monica\, Final\, 81-75
UID:0be20bp769dfoz0z@prestosports.com
END:VEVENT
BEGIN:VEVENT
DTSTAMP:20260424T123655Z
DTSTART:20130214T010000Z
DURATION:PT3H
SUMMARY:(Men's Basketball) Citrus vs. Santa Monica
TRANSP:TRANSPARENT
CATEGORIES:Men's Basketball
DESCRIPTION:Men's Basketball: (Men's Basketball) Citrus vs. Santa Monica\, Final\, 73-68
UID:ywgw6emiiva5m8gt@prestosports.com
END:VEVENT
BEGIN:VEVENT
DTSTAMP:20260424T123655Z
DTSTART:20130216T230000Z
DURATION:PT3H
SUMMARY:(Men's Basketball) Santa Monica at Canyons
TRANSP:TRANSPARENT
CATEGORIES:Men's Basketball
DESCRIPTION:Men's Basketball: (Men's Basketball) Santa Monica at Canyons\, Final\, 76-82
UID:jt2ocjyerhhbyg3x@prestosports.com
END:VEVENT
BEGIN:VEVENT
DTSTAMP:20260424T123655Z
DTSTART:20130222T010000Z
DURATION:PT3H
SUMMARY:(Men's Basketball) Santa Monica vs. Citrus
TRANSP:TRANSPARENT
CATEGORIES:Men's Basketball
LOCATION:Canyons
DESCRIPTION:Men's Basketball: (Men's Basketball) Santa Monica vs. Citrus\, WSC South Tournament\, Final\, 68-77
UID:pxe4ccxitvkdjh0g@prestosports.com
END:VEVENT
BEGIN:VEVENT
DTSTAMP:20260424T123655Z
DTSTART:20130223T010000Z
DURATION:PT3H
SUMMARY:(Men's Basketball) Glendale vs. Santa Monica
TRANSP:TRANSPARENT
CATEGORIES:Men's Basketball
LOCATION:Canyons
DESCRIPTION:Men's Basketball: (Men's Basketball) Glendale vs. Santa Monica\, Final\, 92-75
UID:f7t5hkq4csezf4k4@prestosports.com
END:VEVENT
END:VCALENDAR
